BEGIN:VCALENDAR
VERSION:2.0
PRODID:-//Tukios.com/
BEGIN:VEVENT
UID:927d4cab-ce1e-4eb9-9dfe-286705252728@www.perkinsfuneralhome.com
DTSTAMP:20260425T001503Z
DTSTART:20260523T153000Z
DTEND:20260523T163000Z
SUMMARY:Memorial Service
DESCRIPTION:
URL:https://www.perkinsfuneralhome.com/obituaries/malcolm-coon
LOCATION:Perkins Funeral Home 55 W Main St  Dryden NY 13053
GEO:42.4901671;-76.3027772
END:VEVENT
END:VCALENDAR