BEGIN:VCALENDAR
VERSION:2.0
PRODID:-//Tukios.com/
BEGIN:VEVENT
UID:87e4ad17-a9c2-4cde-aa17-bf3bc69eba8a@www.perkinsfuneralhome.com
DTSTAMP:20260425T001544Z
DTSTART:20260523T140000Z
DTEND:20260523T153000Z
SUMMARY:Visitation
DESCRIPTION:
URL:https://www.perkinsfuneralhome.com/obituaries/malcolm-coon
LOCATION:Perkins Funeral Home 55 W Main St  Dryden NY 13053
GEO:42.4901671;-76.3027772
END:VEVENT
END:VCALENDAR